Felt | Verdi |
AlreadyApplied | True |
Aperture | 6.3 |
ApertureValue | 6.3 |
ApproximateFocusDistance | 4294967295 |
AutoLateralCA | 0 |
AutoWhiteVersion | 134348800 |
BitsPerSample (1) | 8, 8, 8 |
BitsPerSample | 8 8 8 |
Blacks2012 | -48 |
BlueHue | 0 |
BlueSaturation | 0 |
CameraProfile | Adobe Standard |
CircleOfConfusion | 0.031 mm |
Clarity2012 | +100 |
ColorMode | RGB |
ColorNoiseReduction | 49 |
ColorNoiseReductionDetail | 50 |
ColorNoiseReductionSmoothness | 99 |
ColorSpace | sRGB |
ColorTemperature | 5300 |
Contrast2012 | 0 |
ConvertToGrayscale | True |
CreateDate | 2016:08:06 19:13:11 |
CreatorTool | Adobe Photoshop Lightroom 6.3 (Macintosh) |
CropAngle | -0.554618 |
CropBottom | 0.980827 |
CropConstrainToWarp | 0 |
CropLeft | 0.164864 |
CropRight | 0.842798 |
CropTop | 0.233421 |
CustomRendered | Normal |
DateCreated (1) | 2016:08:06 19:13:11 |
DateCreated | 2016:08:06 |
DateTimeOriginal | 2016:08:06 19:13:11 |
Dehaze | 0 |
DOF | inf (51.56 m - inf) |
ExifImageHeight | 1051 |
ExifImageWidth | 1600 |
Exposure2012 | +0.40 |
ExposureCompensation | -2/3 |
ExposureMode | Auto |
ExposureProgram | Aperture-priority AE |
ExposureTime | 1/2500 |
Firmware | 1.0.6 |
Flash | Off, Did not fire |
FlashCompensation | 0 |
FlashFired | False |
FlashFunction | False |
FlashMode | Off |
FlashRedEyeMode | False |
FlashReturn | No return detection |
FNumber | 6.3 |
FocalLength | 100.0 mm |
FocalLength35efl | 100.0 mm (35 mm equivalent: 97.6 mm) |
Format | image/tiff |
FOV | 20.9 deg |
GrainAmount | 0 |
GrayMixerAqua | -16 |
GrayMixerBlue | -97 |
GrayMixerGreen | -16 |
GrayMixerMagenta | +6 |
GrayMixerOrange | +3 |
GrayMixerPurple | +12 |
GrayMixerRed | +15 |
GrayMixerYellow | -6 |
GreenHue | 0 |
GreenSaturation | 0 |
HasCrop | True |
HasSettings | True |
Highlights2012 | -76 |
HyperfocalDistance | 51.56 m |
ICCProfileName | sRGB IEC61966-2.1 |
ImageHeight (1) | 2835 |
ImageHeight | 1051 |
ImageNumber | 0 |
ImageSize | 1600x1051 |
ImageWidth (1) | 3780 |
ImageWidth | 1600 |
ISO | 500 |
Label | Red |
Lens | EF70-200mm f/4L IS USM |
LensID (1) | 242 |
LensID | Canon EF 70-200mm f/4L IS USM |
LensInfo (1) | 70 |
LensInfo | 70-200mm f/? |
LensManualDistortionAmount | 0 |
LensModel | EF70-200mm f/4L IS USM |
LensProfileEnable | 0 |
LensProfileSetup | LensDefaults |
LightValue | 14.3 |
LuminanceNoiseReductionContrast | 0 |
LuminanceNoiseReductionDetail | 50 |
LuminanceSmoothing | 79 |
Make | Canon |
MaxApertureValue | 4.0 |
Megapixels | 1.7 |
MeteringMode | Multi-segment |
Model | Canon EOS 5D Mark II |
ModifyDate (1) | 2024:06:20 10:12:15+02:00 |
ModifyDate | 2024:06:20 10:12:15 |
Orientation | Horizontal (normal) |
OriginatingProgram | Topaz Labs |
PaintCorrectionActive | true |
PaintCorrectionAmount | 1.000000 |
PaintCorrectionBrightness | 0.000000 |
PaintCorrectionClarity2012 | 0.000000 |
PaintCorrectionContrast2012 (3) | 0.000000 |
PaintCorrectionContrast2012 | 0.013994 |
PaintCorrectionDefringe | 0.000000 |
PaintCorrectionExposure2012 (1) | 0.859451 |
PaintCorrectionExposure2012 (2) | 0.554460 |
PaintCorrectionExposure2012 (3) | 0.043576 |
PaintCorrectionExposure2012 (4) | -0.496587 |
PaintCorrectionExposure2012 (5) | 0.230469 |
PaintCorrectionExposure2012 | 0.034587 |
PaintCorrectionHighlights2012 | -0.011567 |
PaintCorrectionHue | 233.000000 |
PaintCorrectionLocalBlacks2012 (3) | -0.089161 |
PaintCorrectionLocalBlacks2012 (4) | -0.002124 |
PaintCorrectionLocalBlacks2012 (5) | 0.012515 |
PaintCorrectionLocalBlacks2012 | 0.007206 |
PaintCorrectionLocalDehaze (5) | 0.017256 |
PaintCorrectionLocalDehaze | 0.000000 |
PaintCorrectionLocalWhites2012 (4) | 0.001782 |
PaintCorrectionLocalWhites2012 | 0.003944 |
PaintCorrectionLuminanceNoise | 0.000000 |
PaintCorrectionMaskCenterWeight (4) | 0.002196 |
PaintCorrectionMaskCenterWeight | 0.001869 |
PaintCorrectionMaskFlow | 0.543895 |
PaintCorrectionMaskRadius (1) | 0.038904 |
PaintCorrectionMaskRadius (11) | 0.258235 |
PaintCorrectionMaskRadius (13) | 0.050782 |
PaintCorrectionMaskRadius (2) | 0.050628 |
PaintCorrectionMaskRadius (3) | 0.056641 |
PaintCorrectionMaskRadius (7) | 0.222766 |
PaintCorrectionMaskRadius | 0.085034 |
PaintCorrectionMaskValue | 1.000000 |
PaintCorrectionMaskWhat | Mask/Paint |
PaintCorrectionMoire | 0.000000 |
PaintCorrectionSaturation (5) | 0.005954 |
PaintCorrectionSaturation (7) | 0.023665 |
PaintCorrectionSaturation | 0.000000 |
PaintCorrectionShadows2012 (2) | 0.005765 |
PaintCorrectionShadows2012 | -0.006864 |
PaintCorrectionSharpness (1) | 0.000000 |
PaintCorrectionSharpness | 0.012894 |
PaintCorrectionTemperature | -0.004589 |
PaintCorrectionTint | 0.001327 |
PaintCorrectionWhat | Correction |
ParametricDarks | 0 |
ParametricHighlights | 0 |
ParametricHighlightSplit | 75 |
ParametricLights | 0 |
ParametricMidtoneSplit | 50 |
ParametricShadows | 0 |
ParametricShadowSplit | 25 |
PerspectiveAspect | 0 |
PerspectiveHorizontal | 0 |
PerspectiveRotate | 0.0 |
PerspectiveScale | 100 |
PerspectiveUpright | 0 |
PerspectiveVertical | 0 |
PhotometricInterpretation | RGB |
PlanarConfiguration | Chunky |
PostCropVignetteAmount | 0 |
ProcessVersion | 6.7 |
ProfileDescription | sRGB IEC61966-2.1 |
RedHue | 0 |
RedSaturation | 0 |
RowsPerStrip | 1051 |
SamplesPerPixel | 3 |
ScaleFactor35efl | 1.0 |
SceneCaptureType | Standard |
SerialNumber | 130101597 |
Shadows2012 | -21 |
ShadowTint | 0 |
SharpenDetail | 25 |
SharpenEdgeMasking | 0 |
SharpenRadius | +1.0 |
Sharpness | 25 |
ShutterSpeed | 1/2500 |
ShutterSpeedValue | 1/2500 |
Software | Adobe Photoshop 25.9 (20240506.m.2611 c1372bf) (Macintosh) |
SplitToningBalance | 0 |
SplitToningHighlightHue | 0 |
SplitToningHighlightSaturation | 0 |
SplitToningShadowHue | 0 |
SplitToningShadowSaturation | 0 |
StripByteCounts | 5044800 |
StripOffsets | 91208 |
SubfileType | Full-resolution Image |
Tint | +2 |
ToneCurve | 0, 0, 255, 255 |
ToneCurveBlue | 0, 0, 255, 255 |
ToneCurveGreen | 0, 0, 255, 255 |
ToneCurveName | Linear |
ToneCurveName2012 | Linear |
ToneCurvePV2012 | 0, 0, 255, 255 |
ToneCurvePV2012Blue | 0, 0, 255, 255 |
ToneCurvePV2012Green | 0, 0, 255, 255 |
ToneCurvePV2012Red | 0, 0, 255, 255 |
ToneCurveRed | 0, 0, 255, 255 |
ToneMapStrength | 0 |
URL_List | |
Version | 9.3 |
VignetteAmount | 0 |
WhiteBalance (2) | Auto |
WhiteBalance | As Shot |
Whites2012 | 0 |