Felt | Verdi |
AlreadyApplied | True |
Aperture | 8.0 |
ApertureValue | 8.0 |
Artist | John Petter Elvan |
AutoLateralCA | 0 |
BitsPerSample | 8 |
Blacks2012 | 0 |
BlueHue | 0 |
BlueSaturation | 0 |
By-line | John Petter Elvan |
CameraProfile | Adobe Standard |
Caption-Abstract | OLYMPUS DIGITAL CAMERA |
CFAPattern | [Red,Green][Green,Blue] |
CircleOfConfusion | 0.015 mm |
Clarity2012 | +40 |
ColorComponents | 3 |
ColorNoiseReduction | 25 |
ColorNoiseReductionDetail | 50 |
ColorNoiseReductionSmoothness | 50 |
ColorSpace | sRGB |
ColorTemperature | 4800 |
ColorTransform | YCbCr |
Contrast | Normal |
Contrast2012 | 0 |
ConvertToGrayscale | True |
Copyright | John Petter Elvan |
CopyrightNotice | John Petter Elvan |
CreateDate | 2019:05:14 16:40:46 |
Creator | John Petter Elvan |
CreatorTool | Adobe Photoshop Lightroom Classic 8.2.1 (Windows) |
CustomRendered | Normal |
DateCreated (1) | 2019:05:14 |
DateCreated | 2019:05:14 16:40:46 |
DateTimeOriginal | 2019:05:14 16:40:46 |
Dehaze | +10 |
Description | OLYMPUS DIGITAL CAMERA |
DigitalZoomRatio | 1 |
DistortionCorrectionAlreadyApplied | True |
Exposure2012 | +0.10 |
ExposureCompensation | 0 |
ExposureMode | Manual |
ExposureProgram | Manual |
ExposureTime | 10 |
Flash | On, Did not fire |
FlashCompensation | 0 |
FNumber | 8.0 |
FocalLength | 13.0 mm |
FocalLength35efl | 13.0 mm (35 mm equivalent: 26.0 mm) |
FocalLengthIn35mmFormat | 26 mm |
Format | image/jpeg |
FOV | 69.4 deg |
GainControl | None |
GrainAmount | 0 |
GrayMixerAqua | -16 |
GrayMixerBlue | +15 |
GrayMixerGreen | -28 |
GrayMixerMagenta | +4 |
GrayMixerOrange | -21 |
GrayMixerPurple | +19 |
GrayMixerRed | -12 |
GrayMixerYellow | -25 |
GreenHue | 0 |
GreenSaturation | 0 |
HasCrop | False |
HasSettings | True |
Highlights2012 | -50 |
HyperfocalDistance | 1.41 m |
ImageDescription | OLYMPUS DIGITAL CAMERA |
ImageHeight | 3888 |
ImageSize | 5184x3888 |
ImageWidth | 5184 |
ISO | 64 |
LateralChromaticAberrationCorrectionAlreadyApplied | True |
Lens | OLYMPUS M.12-100mm F4.0 |
LensInfo | 12-100mm f/4 |
LensManualDistortionAmount | 0 |
LensModel | OLYMPUS M.12-100mm F4.0 |
LensProfileEnable | 0 |
LensProfileSetup | LensDefaults |
LensSerialNumber | ACC223879 |
LightSource | Unknown |
LightValue | 3.3 |
LookAmount | 1.500000 |
LookCluster | Adobe |
LookGroup | B&W |
LookName | B&W 01 |
LookParametersBlacks2012 | -10 |
LookParametersClarity2012 | +8 |
LookParametersContrast2012 | +33 |
LookParametersConvertToGrayscale | True |
LookParametersHighlights2012 | -40 |
LookParametersLookTable | 62CE423BDCA099FE0B786CA01EB606B0 |
LookParametersProcessVersion | 11.0 |
LookParametersShadows2012 | +45 |
LookParametersToneCurvePV2012 | 0, 0, 17, 17, 34, 36, 51, 55, 68, 75, 85, 96, 102, 116, 119, 136, 136, 154, 153, 171, 170, 187, 187, 202, 204, 216, 221, 230, 238, 242, 255, 255 |
LookParametersToneCurvePV2012Blue | 0, 0, 255, 255 |
LookParametersToneCurvePV2012Green | 0, 0, 255, 255 |
LookParametersToneCurvePV2012Red | 0, 0, 255, 255 |
LookParametersVersion | 11.2.1 |
LookSortName | B&W 01 |
LookSupportsMonochrome | false |
LuminanceSmoothing | 0 |
Make | OLYMPUS CORPORATION |
MaxApertureValue | 4.0 |
Megapixels | 20.2 |
MeteringMode | Multi-segment |
Model | E-M1MarkII |
ModifyDate (1) | 2019:05:14 21:28:10+02:00 |
ModifyDate | 2019:05:14 21:28:10 |
OverrideLookVignette | False |
ParametricDarks | 0 |
ParametricHighlights | 0 |
ParametricHighlightSplit | 75 |
ParametricLights | 0 |
ParametricMidtoneSplit | 50 |
ParametricShadows | 0 |
ParametricShadowSplit | 25 |
PerspectiveAspect | 0 |
PerspectiveHorizontal | 0 |
PerspectiveRotate | 0.0 |
PerspectiveScale | 100 |
PerspectiveUpright | 0 |
PerspectiveVertical | 0 |
PerspectiveX | 0.00 |
PerspectiveY | 0.00 |
PostCropVignetteAmount | 0 |
ProcessVersion | 11.0 |
ProfileDescription | sRGB IEC61966-2.1 |
RawFileName | P5140059.ORF |
RedHue | 0 |
RedSaturation | 0 |
Rights | John Petter Elvan |
Saturation | Normal |
ScaleFactor35efl | 2.0 |
SceneCaptureType | Standard |
SensitivityType | Standard Output Sensitivity |
SerialNumber | BHUA48078 |
Shadows2012 | 0 |
ShadowTint | 0 |
SharpenDetail | 25 |
SharpenEdgeMasking | 0 |
SharpenRadius | +1.0 |
Sharpness (1) | 40 |
Sharpness | Normal |
ShutterSpeed | 10 |
ShutterSpeedValue | 10 |
Software | Adobe Photoshop Lightroom Classic 8.2.1 (Windows) |
SplitToningBalance | 0 |
SplitToningHighlightHue | 0 |
SplitToningHighlightSaturation | 0 |
SplitToningShadowHue | 0 |
SplitToningShadowSaturation | 0 |
Tint | +16 |
ToneCurve | 0, 0, 255, 255 |
ToneCurveBlue | 0, 0, 255, 255 |
ToneCurveGreen | 0, 0, 255, 255 |
ToneCurveName | Linear |
ToneCurveName2012 | Linear |
ToneCurvePV2012 | 0, 0, 255, 255 |
ToneCurvePV2012Blue | 0, 0, 255, 255 |
ToneCurvePV2012Green | 0, 0, 255, 255 |
ToneCurvePV2012Red | 0, 0, 255, 255 |
ToneCurveRed | 0, 0, 255, 255 |
ToneMapStrength | 0 |
Version | 11.2.1 |
VignetteAmount | 0 |
WhiteBalance (1) | As Shot |
WhiteBalance | Auto |
Whites2012 | +39 |